BEGIN:VCALENDAR
VERSION:2.0
PRODID:Events Booking
BEGIN:VEVENT
UID:69eb1b3f77e8f
SUMMARY:Trending Topic #Arkeologia
DESCRIPTION:La circulación monetaria en Aquitania y en el norte peninsular
  en época preimperial (s. III - I a.C.)
 Eneko Hiriart (Universidad de B
 urdeos III)
 Jueves\, 2 de mayo de 2019\, 18:30h
 Entrada libre hasta co
 mpletar aforo. Durante la charla se ofrecerá al público un aperitivo
DTSTART:20190502T183000Z
DTEND:20190502T200000Z
DTSTAMP:20260424T092655Z
ORGANIZER;CN=Oiasso Museoa:MAILTO:actividades.oiasso@irun.org
END:VEVENT
END:VCALENDAR