BEGIN:VCALENDAR
VERSION:2.0
PRODID:Events Booking
BEGIN:VEVENT
UID:69eaf6cd5bab1
SUMMARY:Trending Topic #Arkeologia
DESCRIPTION:Escaneando el subsuelo. La aportación de la geofísica en la i
 nvestigación de yacimientos arqueológicos
 Ekhine Garcia (Sociedad de C
 iencias Aranzadi)
 Viernes\, 31 de mayo de 2019\, 18:30h
 Entrada libre 
 hasta completar aforo. Durante la charla se ofrecerá al público un aperi
 tivo
DTSTART:20190531T183000Z
DTEND:20190531T200000Z
DTSTAMP:20260424T065125Z
ORGANIZER;CN=Oiasso Museoa:MAILTO:actividades.oiasso@irun.org
END:VEVENT
END:VCALENDAR